BEGIN:VCALENDAR
VERSION:2.0
PRODID:-//Enterprise Europe Network Canada - ECPv6.15.20//NONSGML v1.0//EN
CALSCALE:GREGORIAN
METHOD:PUBLISH
X-WR-CALNAME:Enterprise Europe Network Canada
X-ORIGINAL-URL:https://een-canada.ca
X-WR-CALDESC:Events for Enterprise Europe Network Canada
REFRESH-INTERVAL;VALUE=DURATION:PT1H
X-Robots-Tag:noindex
X-PUBLISHED-TTL:PT1H
BEGIN:VTIMEZONE
TZID:UTC
BEGIN:STANDARD
TZOFFSETFROM:+0000
TZOFFSETTO:+0000
TZNAME:UTC
DTSTART:20250101T000000
END:STANDARD
END:VTIMEZONE
BEGIN:VEVENT
DTSTART;VALUE=DATE:20260423
DTEND;VALUE=DATE:20260424
DTSTAMP:20260423T125401
CREATED:20260422T211416Z
LAST-MODIFIED:20260422T211416Z
UID:1341-1776902400-1776988799@een-canada.ca
SUMMARY:NKS KEM at Hannover Messe
DESCRIPTION:National Contact Point Climate\, Energy and Mobility (NKS KEM) will give a presentation on Horizon Europe Cluster 5\, offering an overview of current calls\, funding structures and ways for organizations to join EU projects. The session will highlight opportunities for companies\, research institutions and other stakeholders. The team will also be available on site for individual consultations throughout the day. Book a consultation session here.
URL:https://een-canada.ca/event/nks-kem-at-hannover-messe/
CATEGORIES:Horizon Europe
ATTACH;FMTTYPE=image/png:https://een-canada.ca/wp-content/uploads/2026/04/Logo_NKS-KEM_250.png
END:VEVENT
BEGIN:VEVENT
DTSTART;VALUE=DATE:20260527
DTEND;VALUE=DATE:20260528
DTSTAMP:20260423T125401
CREATED:20260422T212307Z
LAST-MODIFIED:20260422T213009Z
UID:1347-1779840000-1779926399@een-canada.ca
SUMMARY:EUPI‑PV Conference 2026
DESCRIPTION:The European Partnership for Innovation in Photovoltaics (EUPI-PV) Conference 2026\, organised by the European Technology and Innovation Platform for Photovoltaics (ETIP PV)\, will bring together industry\, research and policymakers to discuss how solar PV innovation can support Europe’s competitiveness\, energy security and strategic autonomy. The event will also examine regulatory developments and pathways to accelerate the market uptake of next‑generation PV technologies.
URL:https://een-canada.ca/event/battery-2030-annual-conference-2026/
CATEGORIES:Horizon Europe
ATTACH;FMTTYPE=image/webp:https://een-canada.ca/wp-content/uploads/2026/04/image.webp
END:VEVENT
BEGIN:VEVENT
DTSTART;VALUE=DATE:20260610
DTEND;VALUE=DATE:20260615
DTSTAMP:20260423T125401
CREATED:20260422T221437Z
LAST-MODIFIED:20260422T221619Z
UID:1353-1781049600-1781481599@een-canada.ca
SUMMARY:ILA Berlin 2026
DESCRIPTION:
URL:https://een-canada.ca/event/ila-berlin-2026/
CATEGORIES:Matchmaking
ATTACH;FMTTYPE=image/png:https://een-canada.ca/wp-content/uploads/2026/04/Screenshot-2026-04-22-at-15-42-09-Home-ILAconnectandmeet.png
END:VEVENT
END:VCALENDAR