BEGIN:VCALENDAR
VERSION:2.0
PRODID:-//Enterprise Europe Network Canada - ECPv6.15.20//NONSGML v1.0//EN
CALSCALE:GREGORIAN
METHOD:PUBLISH
X-WR-CALNAME:Enterprise Europe Network Canada
X-ORIGINAL-URL:https://een-canada.ca
X-WR-CALDESC:Events for Enterprise Europe Network Canada
REFRESH-INTERVAL;VALUE=DURATION:PT1H
X-Robots-Tag:noindex
X-PUBLISHED-TTL:PT1H
BEGIN:VTIMEZONE
TZID:UTC
BEGIN:STANDARD
TZOFFSETFROM:+0000
TZOFFSETTO:+0000
TZNAME:UTC
DTSTART:20250101T000000
END:STANDARD
END:VTIMEZONE
BEGIN:VEVENT
DTSTART;VALUE=DATE:20260527
DTEND;VALUE=DATE:20260528
DTSTAMP:20260424T175253
CREATED:20260422T212307Z
LAST-MODIFIED:20260422T213009Z
UID:1347-1779840000-1779926399@een-canada.ca
SUMMARY:EUPI‑PV Conference 2026
DESCRIPTION:The European Partnership for Innovation in Photovoltaics (EUPI-PV) Conference 2026\, organised by the European Technology and Innovation Platform for Photovoltaics (ETIP PV)\, will bring together industry\, research and policymakers to discuss how solar PV innovation can support Europe’s competitiveness\, energy security and strategic autonomy. The event will also examine regulatory developments and pathways to accelerate the market uptake of next‑generation PV technologies.
URL:https://een-canada.ca/event/battery-2030-annual-conference-2026/
CATEGORIES:Horizon Europe
ATTACH;FMTTYPE=image/webp:https://een-canada.ca/wp-content/uploads/2026/04/image.webp
END:VEVENT
END:VCALENDAR