BEGIN:VCALENDAR
VERSION:2.0
PRODID:-//Enterprise Europe Network Canada - ECPv6.15.20//NONSGML v1.0//EN
CALSCALE:GREGORIAN
METHOD:PUBLISH
X-WR-CALNAME:Enterprise Europe Network Canada
X-ORIGINAL-URL:https://een-canada.ca
X-WR-CALDESC:Events for Enterprise Europe Network Canada
REFRESH-INTERVAL;VALUE=DURATION:PT1H
X-Robots-Tag:noindex
X-PUBLISHED-TTL:PT1H
BEGIN:VTIMEZONE
TZID:UTC
BEGIN:STANDARD
TZOFFSETFROM:+0000
TZOFFSETTO:+0000
TZNAME:UTC
DTSTART:20250101T000000
END:STANDARD
END:VTIMEZONE
BEGIN:VEVENT
DTSTART;VALUE=DATE:20260421
DTEND;VALUE=DATE:20260422
DTSTAMP:20260424T174637
CREATED:20260422T210854Z
LAST-MODIFIED:20260422T213039Z
UID:1337-1776729600-1776815999@een-canada.ca
SUMMARY:CBE JU 2026 Info Day & Matchmaking
DESCRIPTION:The Circular Bio-based Europe Joint Undertaking (CBE JU) supports innovative bio-based solutions that strengthen Europe’s circular economy by bringing industry\, SMEs\, and research together. Ahead of the 2026 call for proposals\, the upcoming event will help applicants understand the call and find the right partners.
URL:https://een-canada.ca/event/cbe-ju-2026-info-day-matchmaking/
CATEGORIES:Horizon Europe
ATTACH;FMTTYPE=image/jpeg:https://een-canada.ca/wp-content/uploads/2026/04/EEMxbR943YRp8qhhEETgxivg-scaled.jpg
END:VEVENT
END:VCALENDAR